BEGIN:VCALENDAR
VERSION:2.0
PRODID:-//IncoLAB - Smart Island Cluster - ECPv6.15.12//NONSGML v1.0//EN
CALSCALE:GREGORIAN
METHOD:PUBLISH
X-ORIGINAL-URL:https://incolabcluster.com
X-WR-CALDESC:Eventos para IncoLAB - Smart Island Cluster
REFRESH-INTERVAL;VALUE=DURATION:PT1H
X-Robots-Tag:noindex
X-PUBLISHED-TTL:PT1H
BEGIN:VTIMEZONE
TZID:UTC
BEGIN:STANDARD
TZOFFSETFROM:+0000
TZOFFSETTO:+0000
TZNAME:UTC
DTSTART:20190101T000000
END:STANDARD
END:VTIMEZONE
BEGIN:VEVENT
DTSTART;TZID=UTC:20200724T140000
DTEND;TZID=UTC:20200724T170000
DTSTAMP:20260425T102721
CREATED:20210426T141854Z
LAST-MODIFIED:20241202T163657Z
UID:1228-1595599200-1595610000@incolabcluster.com
SUMMARY:Junta Directiva INCO-LAB
DESCRIPTION:
URL:https://incolabcluster.com/event/junta-directiva-inco-lab-2/
END:VEVENT
END:VCALENDAR